BEGIN:VCALENDAR
VERSION:2.0
PRODID:icalendar-ruby
CALSCALE:GREGORIAN
METHOD:PUBLISH
BEGIN:VEVENT
DTSTAMP:20260423T084845Z
UID:6-1374102@ltwcc.com
DTSTART:20261025T140000Z
DTEND:20261025T160000Z
CLASS:PUBLIC
CREATED:20260422T231433
DESCRIPTION:Our services include times of singing praise and worship songs 
 together. We delight to experience God's presence together\, and make time
  for that weekly. We enjoy songs from across many styles and even time per
 iods\, so come join in! \nOur messages focus on the work of Christ throug
 h the Scriptures\, from Genesis through Revelation. Our hope is to equip p
 eople for real life as designed by God. We are not expecting perfect peopl
 e. We embrace one another’s weakness’ and we embrace the cross at the 
 same time.\nIf you are considering paying us a visit\, head over to the "I
 'm New" page for more info. 
LAST-MODIFIED:20260422T231433
LOCATION:28 Sparrowbush Road Latham\, NY 12065
SUMMARY:Sunday Celebration
URL;VALUE=URI:https://www.ltwcc.com/events/sunday-celebration/2026-10-25
ATTACH;FILENAME=Sunday-Celebration.png;FMTTYPE=image/png:https://dq5pwpg1q8
 ru0.cloudfront.net/2026/01/15/16/58/41/86816c87-8095-4bbe-96cd-f072314e9a3
 3/Sunday-Celebration.png
END:VEVENT
END:VCALENDAR
